BEGIN:VCALENDAR
VERSION:2.0
PRODID:-//NGK de Wijngaard Uithuizermeeden - ECPv6.15.20//NONSGML v1.0//EN
CALSCALE:GREGORIAN
METHOD:PUBLISH
X-ORIGINAL-URL:https://gkv.uithuizermeeden.nl
X-WR-CALDESC:Evenementen voor NGK de Wijngaard Uithuizermeeden
REFRESH-INTERVAL;VALUE=DURATION:PT1H
X-Robots-Tag:noindex
X-PUBLISHED-TTL:PT1H
BEGIN:VTIMEZONE
TZID:Europe/Amsterdam
BEGIN:DAYLIGHT
TZOFFSETFROM:+0100
TZOFFSETTO:+0200
TZNAME:CEST
DTSTART:20150329T010000
END:DAYLIGHT
BEGIN:STANDARD
TZOFFSETFROM:+0200
TZOFFSETTO:+0100
TZNAME:CET
DTSTART:20151025T010000
END:STANDARD
BEGIN:DAYLIGHT
TZOFFSETFROM:+0100
TZOFFSETTO:+0200
TZNAME:CEST
DTSTART:20160327T010000
END:DAYLIGHT
BEGIN:STANDARD
TZOFFSETFROM:+0200
TZOFFSETTO:+0100
TZNAME:CET
DTSTART:20161030T010000
END:STANDARD
BEGIN:DAYLIGHT
TZOFFSETFROM:+0100
TZOFFSETTO:+0200
TZNAME:CEST
DTSTART:20170326T010000
END:DAYLIGHT
BEGIN:STANDARD
TZOFFSETFROM:+0200
TZOFFSETTO:+0100
TZNAME:CET
DTSTART:20171029T010000
END:STANDARD
END:VTIMEZONE
BEGIN:VEVENT
DTSTART;TZID=Europe/Amsterdam:20160515T093000
DTEND;TZID=Europe/Amsterdam:20160515T104500
DTSTAMP:20260421T141845
CREATED:20160214T182915Z
LAST-MODIFIED:20160511T065559Z
UID:630-1463304600-1463309100@gkv.uithuizermeeden.nl
SUMMARY:kerkdienst
DESCRIPTION:ds P Slager \nkind en kerk grp 3&4 \nPinksterfeest
URL:https://gkv.uithuizermeeden.nl/event/kerkdienst-20/
CATEGORIES:Kalender
END:VEVENT
BEGIN:VEVENT
DTSTART;TZID=Europe/Amsterdam:20160508T143000
DTEND;TZID=Europe/Amsterdam:20160508T154500
DTSTAMP:20260421T141845
CREATED:20160316T152442Z
LAST-MODIFIED:20160511T065406Z
UID:991-1462717800-1462722300@gkv.uithuizermeeden.nl
SUMMARY:kerkdienst
DESCRIPTION:dhr A Visser
URL:https://gkv.uithuizermeeden.nl/event/kerkdienst-35/
CATEGORIES:Kalender
END:VEVENT
BEGIN:VEVENT
DTSTART;TZID=Europe/Amsterdam:20160508T093000
DTEND;TZID=Europe/Amsterdam:20160508T104500
DTSTAMP:20260421T141845
CREATED:20160316T152317Z
LAST-MODIFIED:20160316T152317Z
UID:990-1462699800-1462704300@gkv.uithuizermeeden.nl
SUMMARY:kerkdienst
DESCRIPTION:ds LSK Hoogendoorn
URL:https://gkv.uithuizermeeden.nl/event/kerkdienst-34/
CATEGORIES:Kalender
END:VEVENT
BEGIN:VEVENT
DTSTART;TZID=Europe/Amsterdam:20160505T093000
DTEND;TZID=Europe/Amsterdam:20160505T104500
DTSTAMP:20260421T141845
CREATED:20160309T124945Z
LAST-MODIFIED:20160316T150538Z
UID:983-1462440600-1462445100@gkv.uithuizermeeden.nl
SUMMARY:kerkdienst
DESCRIPTION:ds LSK Hoogendoorn \nHemelvaart
URL:https://gkv.uithuizermeeden.nl/event/kerkdienst-32/
CATEGORIES:Kalender
END:VEVENT
BEGIN:VEVENT
DTSTART;TZID=Europe/Amsterdam:20160501T143000
DTEND;TZID=Europe/Amsterdam:20160501T154500
DTSTAMP:20260421T141845
CREATED:20160309T124832Z
LAST-MODIFIED:20160501T190725Z
UID:982-1462113000-1462117500@gkv.uithuizermeeden.nl
SUMMARY:kerkdienst
DESCRIPTION:ds G Bruinsma
URL:https://gkv.uithuizermeeden.nl/event/kerkdienst-31/
CATEGORIES:Kalender
END:VEVENT
BEGIN:VEVENT
DTSTART;TZID=Europe/Amsterdam:20160501T093000
DTEND;TZID=Europe/Amsterdam:20160501T104500
DTSTAMP:20260421T141845
CREATED:20160214T182745Z
LAST-MODIFIED:20160309T114146Z
UID:629-1462095000-1462099500@gkv.uithuizermeeden.nl
SUMMARY:kerkdienst
DESCRIPTION:ds G Bruinsma \nkind en kerk grp 1&2
URL:https://gkv.uithuizermeeden.nl/event/kerkdienst-19/
CATEGORIES:Kalender
END:VEVENT
BEGIN:VEVENT
DTSTART;TZID=Europe/Amsterdam:20160424T143000
DTEND;TZID=Europe/Amsterdam:20160424T154500
DTSTAMP:20260421T141845
CREATED:20160309T124352Z
LAST-MODIFIED:20160316T150613Z
UID:981-1461508200-1461512700@gkv.uithuizermeeden.nl
SUMMARY:kerkdienst
DESCRIPTION:ds AJ Minnema
URL:https://gkv.uithuizermeeden.nl/event/kerkdienst-30/
CATEGORIES:Kalender
END:VEVENT
BEGIN:VEVENT
DTSTART;TZID=Europe/Amsterdam:20160424T093000
DTEND;TZID=Europe/Amsterdam:20160424T104500
DTSTAMP:20260421T141845
CREATED:20160309T124309Z
LAST-MODIFIED:20160316T150628Z
UID:980-1461490200-1461494700@gkv.uithuizermeeden.nl
SUMMARY:kerkdienst
DESCRIPTION:ds LSK Hoogendoorn
URL:https://gkv.uithuizermeeden.nl/event/kerkdienst-29/
CATEGORIES:Kalender
END:VEVENT
BEGIN:VEVENT
DTSTART;TZID=Europe/Amsterdam:20160417T143000
DTEND;TZID=Europe/Amsterdam:20160417T154500
DTSTAMP:20260421T141845
CREATED:20160309T124220Z
LAST-MODIFIED:20160316T150641Z
UID:979-1460903400-1460907900@gkv.uithuizermeeden.nl
SUMMARY:kerkdienst
DESCRIPTION:ds AG Bruijn
URL:https://gkv.uithuizermeeden.nl/event/kerkdienst-28/
CATEGORIES:Kalender
END:VEVENT
BEGIN:VEVENT
DTSTART;TZID=Europe/Amsterdam:20160417T093000
DTEND;TZID=Europe/Amsterdam:20160417T104500
DTSTAMP:20260421T141845
CREATED:20160214T183359Z
LAST-MODIFIED:20160309T114022Z
UID:633-1460885400-1460889900@gkv.uithuizermeeden.nl
SUMMARY:kerkdienst
DESCRIPTION:ds LSK Hoogendoorn \nkind en kerk grp 7&8 \nviering Heilig Avondmaal
URL:https://gkv.uithuizermeeden.nl/event/kerkdienst-23/
CATEGORIES:Kalender
END:VEVENT
BEGIN:VEVENT
DTSTART;TZID=Europe/Amsterdam:20160410T143000
DTEND;TZID=Europe/Amsterdam:20160410T154500
DTSTAMP:20260421T141845
CREATED:20160309T124106Z
LAST-MODIFIED:20160316T150711Z
UID:978-1460298600-1460303100@gkv.uithuizermeeden.nl
SUMMARY:kerkdienst
DESCRIPTION:ds JW Roosenbrand
URL:https://gkv.uithuizermeeden.nl/event/kerkdienst-27/
CATEGORIES:Kalender
END:VEVENT
BEGIN:VEVENT
DTSTART;TZID=Europe/Amsterdam:20160410T093000
DTEND;TZID=Europe/Amsterdam:20160410T104500
DTSTAMP:20260421T141845
CREATED:20160309T124001Z
LAST-MODIFIED:20160316T150724Z
UID:977-1460280600-1460285100@gkv.uithuizermeeden.nl
SUMMARY:kerkdienst
DESCRIPTION:ds LSK Hoogendoorn
URL:https://gkv.uithuizermeeden.nl/event/kerkdienst-26/
CATEGORIES:Kalender
END:VEVENT
BEGIN:VEVENT
DTSTART;TZID=Europe/Amsterdam:20160403T093000
DTEND;TZID=Europe/Amsterdam:20160403T104500
DTSTAMP:20260421T141845
CREATED:20160316T151152Z
LAST-MODIFIED:20160316T151152Z
UID:989-1459675800-1459680300@gkv.uithuizermeeden.nl
SUMMARY:kerkdienst
DESCRIPTION:ds HM Smit
URL:https://gkv.uithuizermeeden.nl/event/kerkdienst-33/
CATEGORIES:Kalender
END:VEVENT
BEGIN:VEVENT
DTSTART;TZID=Europe/Amsterdam:20160403T093000
DTEND;TZID=Europe/Amsterdam:20160403T104500
DTSTAMP:20260421T141845
CREATED:20160214T183138Z
LAST-MODIFIED:20160316T150753Z
UID:631-1459675800-1459680300@gkv.uithuizermeeden.nl
SUMMARY:kerkdienst
DESCRIPTION:ds HM Smit \nkind en kerk grp 5&6
URL:https://gkv.uithuizermeeden.nl/event/kerkdienst-21/
CATEGORIES:Kalender
END:VEVENT
BEGIN:VEVENT
DTSTART;TZID=Europe/Amsterdam:20160328T100000
DTEND;TZID=Europe/Amsterdam:20160328T110000
DTSTAMP:20260421T141845
CREATED:20160214T182329Z
LAST-MODIFIED:20160316T150809Z
UID:628-1459159200-1459162800@gkv.uithuizermeeden.nl
SUMMARY:samenzang
DESCRIPTION:Paasfeest
URL:https://gkv.uithuizermeeden.nl/event/samenzang/
CATEGORIES:Kalender
END:VEVENT
BEGIN:VEVENT
DTSTART;TZID=Europe/Amsterdam:20160327T143000
DTEND;TZID=Europe/Amsterdam:20160327T154500
DTSTAMP:20260421T141845
CREATED:20160214T182150Z
LAST-MODIFIED:20160401T181607Z
UID:627-1459089000-1459093500@gkv.uithuizermeeden.nl
SUMMARY:kerkdienst
DESCRIPTION:dhr A Knot \nPaasfeest
URL:https://gkv.uithuizermeeden.nl/event/kerkdienst-18/
CATEGORIES:Kalender
END:VEVENT
BEGIN:VEVENT
DTSTART;TZID=Europe/Amsterdam:20160327T093000
DTEND;TZID=Europe/Amsterdam:20160327T104500
DTSTAMP:20260421T141846
CREATED:20160214T182051Z
LAST-MODIFIED:20160316T150950Z
UID:626-1459071000-1459075500@gkv.uithuizermeeden.nl
SUMMARY:kerkdienst
DESCRIPTION:dhr WJ Wildeboer \nPaasfeest
URL:https://gkv.uithuizermeeden.nl/event/kerkdienst-17/
CATEGORIES:Kalender
END:VEVENT
BEGIN:VEVENT
DTSTART;TZID=Europe/Amsterdam:20160325T193000
DTEND;TZID=Europe/Amsterdam:20160325T203000
DTSTAMP:20260421T141846
CREATED:20160214T181953Z
LAST-MODIFIED:20160316T151013Z
UID:625-1458934200-1458937800@gkv.uithuizermeeden.nl
SUMMARY:kerkdienst
DESCRIPTION:ds LSK Hoogendoorn \nGoede Vrijdag
URL:https://gkv.uithuizermeeden.nl/event/kerkdienst-16/
CATEGORIES:Kalender
END:VEVENT
BEGIN:VEVENT
DTSTART;TZID=Europe/Amsterdam:20160320T143000
DTEND;TZID=Europe/Amsterdam:20160320T154500
DTSTAMP:20260421T141846
CREATED:20160214T181834Z
LAST-MODIFIED:20170327T184407Z
UID:624-1458484200-1458488700@gkv.uithuizermeeden.nl
SUMMARY:kerkdienst
DESCRIPTION:ds M Beute
URL:https://gkv.uithuizermeeden.nl/event/kerkdienst-15/
CATEGORIES:Kalender
END:VEVENT
BEGIN:VEVENT
DTSTART;TZID=Europe/Amsterdam:20160320T093000
DTEND;TZID=Europe/Amsterdam:20160320T104500
DTSTAMP:20260421T141846
CREATED:20160214T181728Z
LAST-MODIFIED:20160316T151105Z
UID:623-1458466200-1458470700@gkv.uithuizermeeden.nl
SUMMARY:kerkdienst
DESCRIPTION:ds LSK Hoogendoorn \nkind en kerk grp 3&4
URL:https://gkv.uithuizermeeden.nl/event/kerkdienst-14/
CATEGORIES:Kalender
END:VEVENT
BEGIN:VEVENT
DTSTART;TZID=Europe/Amsterdam:20160313T143000
DTEND;TZID=Europe/Amsterdam:20160313T154500
DTSTAMP:20260421T141846
CREATED:20160214T181616Z
LAST-MODIFIED:20160316T151224Z
UID:622-1457879400-1457883900@gkv.uithuizermeeden.nl
SUMMARY:kerkdienst
DESCRIPTION:ds AJ Minnema
URL:https://gkv.uithuizermeeden.nl/event/kerkdienst-13/
CATEGORIES:Kalender
END:VEVENT
BEGIN:VEVENT
DTSTART;TZID=Europe/Amsterdam:20160313T093000
DTEND;TZID=Europe/Amsterdam:20160313T104500
DTSTAMP:20260421T141846
CREATED:20160214T181432Z
LAST-MODIFIED:20160316T151247Z
UID:621-1457861400-1457865900@gkv.uithuizermeeden.nl
SUMMARY:kerkdienst
DESCRIPTION:ds LSK Hoogendoorn
URL:https://gkv.uithuizermeeden.nl/event/kerkdienst-12/
CATEGORIES:Kalender
END:VEVENT
BEGIN:VEVENT
DTSTART;TZID=Europe/Amsterdam:20160309T193000
DTEND;TZID=Europe/Amsterdam:20160309T203000
DTSTAMP:20260421T141846
CREATED:20160214T181322Z
LAST-MODIFIED:20160316T151301Z
UID:620-1457551800-1457555400@gkv.uithuizermeeden.nl
SUMMARY:kerkdienst
DESCRIPTION:ds LSK Hoogendoorn \nbid uur voor gewas en arbeid
URL:https://gkv.uithuizermeeden.nl/event/kerkdienst-11/
CATEGORIES:Kalender
END:VEVENT
BEGIN:VEVENT
DTSTART;TZID=Europe/Amsterdam:20160306T143000
DTEND;TZID=Europe/Amsterdam:20160306T144500
DTSTAMP:20260421T141846
CREATED:20160214T181134Z
LAST-MODIFIED:20160316T151318Z
UID:619-1457274600-1457275500@gkv.uithuizermeeden.nl
SUMMARY:kerkdienst
DESCRIPTION:ds HW van Egmond
URL:https://gkv.uithuizermeeden.nl/event/kerkdienst-10/
CATEGORIES:Kalender
END:VEVENT
BEGIN:VEVENT
DTSTART;TZID=Europe/Amsterdam:20160306T093000
DTEND;TZID=Europe/Amsterdam:20160306T104500
DTSTAMP:20260421T141846
CREATED:20160214T180936Z
LAST-MODIFIED:20160316T151336Z
UID:618-1457256600-1457261100@gkv.uithuizermeeden.nl
SUMMARY:kerkdienst
DESCRIPTION:dhr A Visser \nkind en kerk grp 1&2
URL:https://gkv.uithuizermeeden.nl/event/kerkdienst-9/
CATEGORIES:Kalender
END:VEVENT
BEGIN:VEVENT
DTSTART;TZID=Europe/Amsterdam:20160228T143000
DTEND;TZID=Europe/Amsterdam:20160228T154500
DTSTAMP:20260421T141846
CREATED:20160214T180814Z
LAST-MODIFIED:20160214T190920Z
UID:617-1456669800-1456674300@gkv.uithuizermeeden.nl
SUMMARY:kerkdienst
DESCRIPTION:ds W Jagersma
URL:https://gkv.uithuizermeeden.nl/event/kerkdienst-8/
CATEGORIES:Kalender
END:VEVENT
BEGIN:VEVENT
DTSTART;TZID=Europe/Amsterdam:20160228T093000
DTEND;TZID=Europe/Amsterdam:20160228T104500
DTSTAMP:20260421T141846
CREATED:20160214T180722Z
LAST-MODIFIED:20160214T190905Z
UID:616-1456651800-1456656300@gkv.uithuizermeeden.nl
SUMMARY:kerkdienst
DESCRIPTION:ds LSK Hoogendoorn \nkind en kerk grp 7&8
URL:https://gkv.uithuizermeeden.nl/event/kerkdienst-7/
CATEGORIES:Kalender
END:VEVENT
BEGIN:VEVENT
DTSTART;TZID=Europe/Amsterdam:20160221T143000
DTEND;TZID=Europe/Amsterdam:20160221T154500
DTSTAMP:20260421T141846
CREATED:20160214T180525Z
LAST-MODIFIED:20160214T190635Z
UID:615-1456065000-1456069500@gkv.uithuizermeeden.nl
SUMMARY:kerkdienst
DESCRIPTION:ds LSK Hoogendoorn
URL:https://gkv.uithuizermeeden.nl/event/kerkdienst-6/
CATEGORIES:Kalender
END:VEVENT
BEGIN:VEVENT
DTSTART;TZID=Europe/Amsterdam:20160221T093000
DTEND;TZID=Europe/Amsterdam:20160221T104500
DTSTAMP:20260421T141846
CREATED:20160214T175955Z
LAST-MODIFIED:20160214T190809Z
UID:614-1456047000-1456051500@gkv.uithuizermeeden.nl
SUMMARY:kerkdienst
DESCRIPTION:ds LSK Hoogendoorn \nviering Heilig Avondmaal
URL:https://gkv.uithuizermeeden.nl/event/kerkdienst-4/
CATEGORIES:Kalender
END:VEVENT
BEGIN:VEVENT
DTSTART;TZID=Europe/Amsterdam:20160214T143000
DTEND;TZID=Europe/Amsterdam:20160214T154500
DTSTAMP:20260421T141846
CREATED:20160209T162847Z
LAST-MODIFIED:20160214T190752Z
UID:529-1455460200-1455464700@gkv.uithuizermeeden.nl
SUMMARY:kerkdienst
DESCRIPTION:
URL:https://gkv.uithuizermeeden.nl/event/kerkdienst-3/
CATEGORIES:Kalender
END:VEVENT
END:VCALENDAR